BEGIN:VCALENDAR
PRODID:-//spiritec//spiritec media library//EN
VERSION:2.0
METHOD:PUBLISH
BEGIN:VEVENT
UID:ical-2026-06-03-3300
DTSTART:20260603T173000Z
DTSTAMP:20260423T002237Z
LOCATION:Grosses Haus
SUMMARY:Hair
DESCRIPTION:
CREATED:20260423T002237Z
DTEND:20260603T200000Z
END:VEVENT
END:VCALENDAR
