BEGIN:VCALENDAR
PRODID:-//spiritec//spiritec media library//EN
VERSION:2.0
METHOD:PUBLISH
BEGIN:VEVENT
UID:ical-2026-04-26-3303
DTSTART:20260426T150000Z
DTSTAMP:20260420T001835Z
LOCATION:Grosses Haus
SUMMARY:Dieses Stück geht schief
DESCRIPTION:
CREATED:20260420T001835Z
DTEND:20260426T170000Z
END:VEVENT
END:VCALENDAR
