BEGIN:VCALENDAR
PRODID:-//spiritec//spiritec media library//EN
VERSION:2.0
METHOD:PUBLISH
BEGIN:VEVENT
UID:ical-2026-05-05-3305
DTSTART:20260505T173000Z
DTSTAMP:20260423T004522Z
LOCATION:Grosses Haus
SUMMARY:Dieses Stück geht schief
DESCRIPTION:
CREATED:20260423T004522Z
DTEND:20260505T193000Z
END:VEVENT
END:VCALENDAR
