BEGIN:VCALENDAR
PRODID:-//spiritec//spiritec media library//EN
VERSION:2.0
METHOD:PUBLISH
BEGIN:VEVENT
UID:ical-2026-05-09-3366
DTSTART:20260509T090000Z
DTSTAMP:20260423T004836Z
LOCATION:Grosses Haus
SUMMARY:Theaterführung
DESCRIPTION:
CREATED:20260423T004836Z
DTEND:20260509T100000Z
END:VEVENT
END:VCALENDAR
