BEGIN:VCALENDAR
PRODID:-//spiritec//spiritec media library//EN
VERSION:2.0
METHOD:PUBLISH
BEGIN:VEVENT
UID:ical-2026-06-14-3406
DTSTART:20260614T150000Z
DTSTAMP:20260422T185330Z
LOCATION:Tonhalle
SUMMARY:Schubertiade
DESCRIPTION:
CREATED:20260422T185330Z
DTEND:20260614T162000Z
END:VEVENT
END:VCALENDAR
