BEGIN:VCALENDAR
PRODID:-//spiritec//spiritec media library//EN
VERSION:2.0
METHOD:PUBLISH
BEGIN:VEVENT
UID:ical-2026-05-07-3415
DTSTART:20260507T173000Z
DTSTAMP:20260422T203845Z
LOCATION:Tonhalle
SUMMARY:Brahms 3
DESCRIPTION:
CREATED:20260422T203845Z
DTEND:20260507T190000Z
END:VEVENT
END:VCALENDAR
