BEGIN:VCALENDAR
PRODID:-//spiritec//spiritec media library//EN
VERSION:2.0
METHOD:PUBLISH
BEGIN:VEVENT
UID:ical-2026-06-19-3416
DTSTART:20260619T180000Z
DTSTAMP:20260422T182500Z
LOCATION:Grosses Haus
SUMMARY:Aida
DESCRIPTION:
CREATED:20260422T182500Z
DTEND:20260619T210000Z
END:VEVENT
END:VCALENDAR
