BEGIN:VCALENDAR
PRODID:-//spiritec//spiritec media library//EN
VERSION:2.0
METHOD:PUBLISH
BEGIN:VEVENT
UID:ical-2026-06-28-3419
DTSTART:20260628T160000Z
DTSTAMP:20260422T213008Z
LOCATION:Grosses Haus
SUMMARY:Aida
DESCRIPTION:
CREATED:20260422T213008Z
DTEND:20260628T190000Z
END:VEVENT
END:VCALENDAR
