BEGIN:VCALENDAR
PRODID:-//spiritec//spiritec media library//EN
VERSION:2.0
METHOD:PUBLISH
BEGIN:VEVENT
UID:ical-2026-06-30-3420
DTSTART:20260630T180000Z
DTSTAMP:20260422T181655Z
LOCATION:Grosses Haus
SUMMARY:Aida
DESCRIPTION:
CREATED:20260422T181655Z
DTEND:20260630T210000Z
END:VEVENT
END:VCALENDAR
