BEGIN:VCALENDAR
PRODID:-//spiritec//spiritec media library//EN
VERSION:2.0
METHOD:PUBLISH
BEGIN:VEVENT
UID:ical-2026-05-02-3436
DTSTART:20260502T170000Z
DTSTAMP:20260422T221015Z
LOCATION:Grosses Haus
SUMMARY:Così fan tutte
DESCRIPTION:
CREATED:20260422T221015Z
DTEND:20260502T200000Z
END:VEVENT
END:VCALENDAR
