BEGIN:VCALENDAR
PRODID:-//spiritec//spiritec media library//EN
VERSION:2.0
METHOD:PUBLISH
BEGIN:VEVENT
UID:ical-2026-05-11-3437
DTSTART:20260511T173000Z
DTSTAMP:20260422T212907Z
LOCATION:Grosses Haus
SUMMARY:Così fan tutte
DESCRIPTION:
CREATED:20260422T212907Z
DTEND:20260511T203000Z
END:VEVENT
END:VCALENDAR
