BEGIN:VCALENDAR
PRODID:-//spiritec//spiritec media library//EN
VERSION:2.0
METHOD:PUBLISH
BEGIN:VEVENT
UID:ical-2026-05-17-3439
DTSTART:20260517T120000Z
DTSTAMP:20260423T085923Z
LOCATION:Grosses Haus
SUMMARY:Così fan tutte
DESCRIPTION:
CREATED:20260423T085923Z
DTEND:20260517T150000Z
END:VEVENT
END:VCALENDAR
