BEGIN:VCALENDAR
PRODID:-//spiritec//spiritec media library//EN
VERSION:2.0
METHOD:PUBLISH
BEGIN:VEVENT
UID:ical-2026-04-26-3442
DTSTART:20260426T090000Z
DTSTAMP:20260422T192023Z
LOCATION:Tonhalle
SUMMARY:Wolferl, wo steckst du?
DESCRIPTION:
CREATED:20260422T192023Z
DTEND:20260426T100000Z
END:VEVENT
END:VCALENDAR
