BEGIN:VCALENDAR
PRODID:-//spiritec//spiritec media library//EN
VERSION:2.0
METHOD:PUBLISH
BEGIN:VEVENT
UID:ical-2026-05-03-3446
DTSTART:20260503T150000Z
DTSTAMP:20260419T225622Z
LOCATION:Lokremise
SUMMARY:Heartspace
DESCRIPTION:
CREATED:20260419T225622Z
DTEND:20260503T162000Z
END:VEVENT
END:VCALENDAR
