BEGIN:VCALENDAR
PRODID:-//spiritec//spiritec media library//EN
VERSION:2.0
METHOD:PUBLISH
BEGIN:VEVENT
UID:ical-2026-06-20-3466
DTSTART:20260620T183000Z
DTSTAMP:20260422T224437Z
LOCATION:Parkbühne Grosses Haus
SUMMARY:Planet B
DESCRIPTION:
CREATED:20260422T224437Z
DTEND:20260620T200000Z
END:VEVENT
END:VCALENDAR
