BEGIN:VCALENDAR
PRODID:-//spiritec//spiritec media library//EN
VERSION:2.0
METHOD:PUBLISH
BEGIN:VEVENT
UID:ical-2026-06-23-3467
DTSTART:20260623T183000Z
DTSTAMP:20260420T031133Z
LOCATION:Parkbühne Grosses Haus
SUMMARY:Planet B
DESCRIPTION:
CREATED:20260420T031133Z
DTEND:20260623T200000Z
END:VEVENT
END:VCALENDAR
