BEGIN:VCALENDAR
PRODID:-//spiritec//spiritec media library//EN
VERSION:2.0
METHOD:PUBLISH
BEGIN:VEVENT
UID:ical-2026-06-24-3468
DTSTART:20260624T183000Z
DTSTAMP:20260422T003931Z
LOCATION:Parkbühne Grosses Haus
SUMMARY:Planet B
DESCRIPTION:
CREATED:20260422T003931Z
DTEND:20260624T200000Z
END:VEVENT
END:VCALENDAR
