BEGIN:VCALENDAR
PRODID:-//spiritec//spiritec media library//EN
VERSION:2.0
METHOD:PUBLISH
BEGIN:VEVENT
UID:ical-2026-06-29-3470
DTSTART:20260629T183000Z
DTSTAMP:20260420T143311Z
LOCATION:Parkbühne Grosses Haus
SUMMARY:Planet B
DESCRIPTION:
CREATED:20260420T143311Z
DTEND:20260629T200000Z
END:VEVENT
END:VCALENDAR
