BEGIN:VCALENDAR
PRODID:-//spiritec//spiritec media library//EN
VERSION:2.0
METHOD:PUBLISH
BEGIN:VEVENT
UID:ical-2026-04-25-3489
DTSTART:20260425T150000Z
DTSTAMP:20260422T184918Z
LOCATION:Studio
SUMMARY:Versteckt
DESCRIPTION:
CREATED:20260422T184918Z
DTEND:20260425T160000Z
END:VEVENT
END:VCALENDAR
