BEGIN:VCALENDAR
PRODID:-//spiritec//spiritec media library//EN
VERSION:2.0
METHOD:PUBLISH
BEGIN:VEVENT
UID:ical-2026-04-30-3500
DTSTART:20260430T180000Z
DTSTAMP:20260423T111446Z
LOCATION:Lokremise
SUMMARY:WAU WOW
DESCRIPTION:
CREATED:20260423T111446Z
DTEND:20260430T192000Z
END:VEVENT
END:VCALENDAR
