BEGIN:VCALENDAR
PRODID:-//spiritec//spiritec media library//EN
VERSION:2.0
METHOD:PUBLISH
BEGIN:VEVENT
UID:ical-2026-05-10-3502
DTSTART:20260510T150000Z
DTSTAMP:20260422T072904Z
LOCATION:Lokremise
SUMMARY:WAU WOW
DESCRIPTION:
CREATED:20260422T072904Z
DTEND:20260510T162000Z
END:VEVENT
END:VCALENDAR
