BEGIN:VCALENDAR
PRODID:-//spiritec//spiritec media library//EN
VERSION:2.0
METHOD:PUBLISH
BEGIN:VEVENT
UID:ical-2026-05-18-3504
DTSTART:20260518T180000Z
DTSTAMP:20260423T062412Z
LOCATION:Lokremise
SUMMARY:WAU WOW
DESCRIPTION:
CREATED:20260423T062412Z
DTEND:20260518T192000Z
END:VEVENT
END:VCALENDAR
