BEGIN:VCALENDAR
PRODID:-//spiritec//spiritec media library//EN
VERSION:2.0
METHOD:PUBLISH
BEGIN:VEVENT
UID:ical-2026-05-22-3505
DTSTART:20260522T180000Z
DTSTAMP:20260423T130227Z
LOCATION:Lokremise
SUMMARY:WAU WOW
DESCRIPTION:
CREATED:20260423T130227Z
DTEND:20260522T192000Z
END:VEVENT
END:VCALENDAR
