BEGIN:VCALENDAR
PRODID:-//spiritec//spiritec media library//EN
VERSION:2.0
METHOD:PUBLISH
BEGIN:VEVENT
UID:ical-2026-05-28-3507
DTSTART:20260528T180000Z
DTSTAMP:20260423T173339Z
LOCATION:Lokremise
SUMMARY:WAU WOW
DESCRIPTION:
CREATED:20260423T173339Z
DTEND:20260528T192000Z
END:VEVENT
END:VCALENDAR
