BEGIN:VCALENDAR
PRODID:-//spiritec//spiritec media library//EN
VERSION:2.0
METHOD:PUBLISH
BEGIN:VEVENT
UID:ical-2026-05-31-3508
DTSTART:20260531T150000Z
DTSTAMP:20260423T212646Z
LOCATION:Lokremise
SUMMARY:WAU WOW
DESCRIPTION:
CREATED:20260423T212646Z
DTEND:20260531T162000Z
END:VEVENT
END:VCALENDAR
