BEGIN:VCALENDAR
PRODID:-//spiritec//spiritec media library//EN
VERSION:2.0
METHOD:PUBLISH
BEGIN:VEVENT
UID:ical-2026-06-25-3519
DTSTART:20260625T190000Z
DTSTAMP:20260421T054156Z
LOCATION:Kathedrale
SUMMARY:Grace
DESCRIPTION:
CREATED:20260421T054156Z
DTEND:20260625T203000Z
END:VEVENT
END:VCALENDAR
