BEGIN:VCALENDAR
PRODID:-//spiritec//spiritec media library//EN
VERSION:2.0
METHOD:PUBLISH
BEGIN:VEVENT
UID:ical-2026-05-21-3523
DTSTART:20260521T180000Z
DTSTAMP:20260423T004726Z
LOCATION:Lokremise
SUMMARY:The Pink Panther
DESCRIPTION:
CREATED:20260423T004726Z
DTEND:20260521T190000Z
END:VEVENT
END:VCALENDAR
