BEGIN:VCALENDAR
PRODID:-//spiritec//spiritec media library//EN
VERSION:2.0
METHOD:PUBLISH
BEGIN:VEVENT
UID:ical-2026-05-29-3524
DTSTART:20260529T180000Z
DTSTAMP:20260422T183712Z
LOCATION:Lokremise
SUMMARY:The Pink Panther
DESCRIPTION:
CREATED:20260422T183712Z
DTEND:20260529T190000Z
END:VEVENT
END:VCALENDAR
