BEGIN:VCALENDAR
PRODID:-//spiritec//spiritec media library//EN
VERSION:2.0
METHOD:PUBLISH
BEGIN:VEVENT
UID:ical-2026-04-27-3538
DTSTART:20260427T164500Z
DTSTAMP:20260423T071322Z
LOCATION:Grosses Haus
SUMMARY:Einführungssoiree: Così fan tutte
DESCRIPTION:
CREATED:20260423T071322Z
DTEND:20260427T164500Z
END:VEVENT
END:VCALENDAR
