BEGIN:VCALENDAR
PRODID:-//spiritec//spiritec media library//EN
VERSION:2.0
METHOD:PUBLISH
BEGIN:VEVENT
UID:ical-2026-06-15-3542
DTSTART:20260615T164500Z
DTSTAMP:20260422T181528Z
LOCATION:Grosses Haus
SUMMARY:Einführungssoiree: Aida
DESCRIPTION:
CREATED:20260422T181528Z
DTEND:20260615T164500Z
END:VEVENT
END:VCALENDAR
