BEGIN:VCALENDAR
PRODID:-//spiritec//spiritec media library//EN
VERSION:2.0
METHOD:PUBLISH
BEGIN:VEVENT
UID:ical-2026-04-10-3568
DTSTART:20260410T153000Z
DTSTAMP:20260422T202209Z
LOCATION:Studio
SUMMARY:Talk im Studio zu "Hair"
DESCRIPTION:
CREATED:20260422T202209Z
DTEND:20260410T165000Z
END:VEVENT
END:VCALENDAR
