BEGIN:VCALENDAR
PRODID:-//spiritec//spiritec media library//EN
VERSION:2.0
METHOD:PUBLISH
BEGIN:VEVENT
UID:ical-2026-04-25-3574
DTSTART:20260425T121500Z
DTSTAMP:20260421T033235Z
LOCATION:Probebühne
SUMMARY:Theaterkurs für Kinder (8-11)
DESCRIPTION:
CREATED:20260421T033235Z
DTEND:20260425T121500Z
END:VEVENT
END:VCALENDAR
