BEGIN:VCALENDAR
PRODID:-//spiritec//spiritec media library//EN
VERSION:2.0
METHOD:PUBLISH
BEGIN:VEVENT
UID:ical-2026-05-17-3582
DTSTART:20260517T150000Z
DTSTAMP:20260419T154938Z
LOCATION:Lokremise
SUMMARY:WAU WOW
DESCRIPTION:
CREATED:20260419T154938Z
DTEND:20260517T162000Z
END:VEVENT
END:VCALENDAR
