BEGIN:VCALENDAR
PRODID:-//spiritec//spiritec media library//EN
VERSION:2.0
METHOD:PUBLISH
BEGIN:VEVENT
UID:ical-2026-04-18-3635
DTSTART:20260418T190000Z
DTSTAMP:20260422T184922Z
LOCATION:Lokremise
SUMMARY:Resonanz der Elemente
DESCRIPTION:
CREATED:20260422T184922Z
DTEND:20260418T190000Z
END:VEVENT
END:VCALENDAR
