BEGIN:VCALENDAR
PRODID:-//spiritec//spiritec media library//EN
VERSION:2.0
METHOD:PUBLISH
BEGIN:VEVENT
UID:ical-2026-05-09-3647
DTSTART:20260509T190000Z
DTSTAMP:20260423T162354Z
LOCATION:Grosses Haus
SUMMARY:Dance Night mit Patric Pleasure & Gee-K
DESCRIPTION:
CREATED:20260423T162354Z
DTEND:20260510T000000Z
END:VEVENT
END:VCALENDAR
