BEGIN:VCALENDAR
PRODID:-//spiritec//spiritec media library//EN
VERSION:2.0
METHOD:PUBLISH
BEGIN:VEVENT
UID:ical-2026-06-21-3654
DTSTART:20260621T150000Z
DTSTAMP:20260423T194044Z
LOCATION:Tonhalle
SUMMARY:Enrique Solinís & Euskal Barrok Ensemble
DESCRIPTION:
CREATED:20260423T194044Z
DTEND:20260621T150000Z
END:VEVENT
END:VCALENDAR
