BEGIN:VCALENDAR
PRODID:-//spiritec//spiritec media library//EN
VERSION:2.0
METHOD:PUBLISH
BEGIN:VEVENT
UID:ical-2026-06-30-3656
DTSTART:20260630T170000Z
DTSTAMP:20260422T190923Z
LOCATION:Kathedrale
SUMMARY:Organ Opera
DESCRIPTION:
CREATED:20260422T190923Z
DTEND:20260630T170000Z
END:VEVENT
END:VCALENDAR
