BEGIN:VCALENDAR
PRODID:-//spiritec//spiritec media library//EN
VERSION:2.0
METHOD:PUBLISH
BEGIN:VEVENT
UID:ical-2026-04-23-3686
DTSTART:20260423T160000Z
DTSTAMP:20260422T212715Z
LOCATION:Lokremise
SUMMARY:Einführungssoiree: WAU WOW
DESCRIPTION:
CREATED:20260422T212715Z
DTEND:20260423T160000Z
END:VEVENT
END:VCALENDAR
