BEGIN:VCALENDAR
PRODID:-//spiritec//spiritec media library//EN
VERSION:2.0
METHOD:PUBLISH
BEGIN:VEVENT
UID:ical-2026-04-09-3687
DTSTART:20260409T160000Z
DTSTAMP:20260422T234312Z
LOCATION:Grosses Haus
SUMMARY:Einführungssoiree: Dieses Stück geht schief
DESCRIPTION:
CREATED:20260422T234312Z
DTEND:20260409T160000Z
END:VEVENT
END:VCALENDAR
