BEGIN:VCALENDAR
PRODID:-//spiritec//spiritec media library//EN
VERSION:2.0
METHOD:PUBLISH
BEGIN:VEVENT
UID:ical-2026-06-04-3692
DTSTART:20260604T173000Z
DTSTAMP:20260422T072048Z
LOCATION:Grosses Haus
SUMMARY:Hair
DESCRIPTION:
CREATED:20260422T072048Z
DTEND:20260604T200000Z
END:VEVENT
END:VCALENDAR
