BEGIN:VCALENDAR
PRODID:-//spiritec//spiritec media library//EN
VERSION:2.0
METHOD:PUBLISH
BEGIN:VEVENT
UID:ical-2026-11-03-3698
DTSTART:20261103T183000Z
DTSTAMP:20260422T211434Z
LOCATION:Grosses Haus
SUMMARY:Der Besuch der alten Dame
DESCRIPTION:
CREATED:20260422T211434Z
DTEND:20261103T210000Z
END:VEVENT
END:VCALENDAR
