BEGIN:VCALENDAR
PRODID:-//spiritec//spiritec media library//EN
VERSION:2.0
METHOD:PUBLISH
BEGIN:VEVENT
UID:ical-2026-12-04-3700
DTSTART:20261204T183000Z
DTSTAMP:20260423T200726Z
LOCATION:Grosses Haus
SUMMARY:Der Besuch der alten Dame
DESCRIPTION:
CREATED:20260423T200726Z
DTEND:20261204T210000Z
END:VEVENT
END:VCALENDAR
