BEGIN:VCALENDAR
PRODID:-//spiritec//spiritec media library//EN
VERSION:2.0
METHOD:PUBLISH
BEGIN:VEVENT
UID:ical-2026-09-16-3701
DTSTART:20260916T173000Z
DTSTAMP:20260422T081519Z
LOCATION:Grosses Haus
SUMMARY:Hair
DESCRIPTION:
CREATED:20260422T081519Z
DTEND:20260916T200000Z
END:VEVENT
END:VCALENDAR
