BEGIN:VCALENDAR
PRODID:-//spiritec//spiritec media library//EN
VERSION:2.0
METHOD:PUBLISH
BEGIN:VEVENT
UID:ical-2026-10-31-3704
DTSTART:20261031T180000Z
DTSTAMP:20260423T014242Z
LOCATION:Grosses Haus
SUMMARY:Hair
DESCRIPTION:
CREATED:20260423T014242Z
DTEND:20261031T203000Z
END:VEVENT
END:VCALENDAR
