BEGIN:VCALENDAR
PRODID:-//spiritec//spiritec media library//EN
VERSION:2.0
METHOD:PUBLISH
BEGIN:VEVENT
UID:ical-2026-06-11-3705
DTSTART:20260611T160000Z
DTSTAMP:20260422T205336Z
LOCATION:Parkbühne Grosses Haus
SUMMARY:Einführungssoiree: Planet B
DESCRIPTION:
CREATED:20260422T205336Z
DTEND:20260611T160000Z
END:VEVENT
END:VCALENDAR
