BEGIN:VCALENDAR
PRODID:-//spiritec//spiritec media library//EN
VERSION:2.0
METHOD:PUBLISH
BEGIN:VEVENT
UID:ical-2026-05-06-3706
DTSTART:20260506T180000Z
DTSTAMP:20260422T190923Z
LOCATION:Studio
SUMMARY:I pack min Koffer
DESCRIPTION:
CREATED:20260422T190923Z
DTEND:20260506T185000Z
END:VEVENT
END:VCALENDAR
