BEGIN:VCALENDAR
PRODID:-//spiritec//spiritec media library//EN
VERSION:2.0
METHOD:PUBLISH
BEGIN:VEVENT
UID:ical-2026-05-08-3707
DTSTART:20260508T180000Z
DTSTAMP:20260420T072825Z
LOCATION:Studio
SUMMARY:I pack min Koffer
DESCRIPTION:
CREATED:20260420T072825Z
DTEND:20260508T185000Z
END:VEVENT
END:VCALENDAR
