BEGIN:VCALENDAR
PRODID:-//spiritec//spiritec media library//EN
VERSION:2.0
METHOD:PUBLISH
BEGIN:VEVENT
UID:ical-2026-05-13-3709
DTSTART:20260513T180000Z
DTSTAMP:20260423T020851Z
LOCATION:Studio
SUMMARY:I pack min Koffer
DESCRIPTION:
CREATED:20260423T020851Z
DTEND:20260513T185000Z
END:VEVENT
END:VCALENDAR
