BEGIN:VCALENDAR
PRODID:-//spiritec//spiritec media library//EN
VERSION:2.0
METHOD:PUBLISH
BEGIN:VEVENT
UID:ical-2026-06-04-3710
DTSTART:20260604T180000Z
DTSTAMP:20260422T203353Z
LOCATION:Lokremise
SUMMARY:WAU WOW
DESCRIPTION:
CREATED:20260422T203353Z
DTEND:20260604T192000Z
END:VEVENT
END:VCALENDAR
